BEGIN:VCALENDAR
VERSION:2.0
PRODID:-//Galliford&#039;s Restaurant &amp; Tavern - ECPv6.15.20//NONSGML v1.0//EN
CALSCALE:GREGORIAN
METHOD:PUBLISH
X-ORIGINAL-URL:https://gallifords.com
X-WR-CALDESC:Events for Galliford&#039;s Restaurant &amp; Tavern
REFRESH-INTERVAL;VALUE=DURATION:PT1H
X-Robots-Tag:noindex
X-PUBLISHED-TTL:PT1H
BEGIN:VTIMEZONE
TZID:America/New_York
BEGIN:DAYLIGHT
TZOFFSETFROM:-0500
TZOFFSETTO:-0400
TZNAME:EDT
DTSTART:20250309T070000
END:DAYLIGHT
BEGIN:STANDARD
TZOFFSETFROM:-0400
TZOFFSETTO:-0500
TZNAME:EST
DTSTART:20251102T060000
END:STANDARD
BEGIN:DAYLIGHT
TZOFFSETFROM:-0500
TZOFFSETTO:-0400
TZNAME:EDT
DTSTART:20260308T070000
END:DAYLIGHT
BEGIN:STANDARD
TZOFFSETFROM:-0400
TZOFFSETTO:-0500
TZNAME:EST
DTSTART:20261101T060000
END:STANDARD
BEGIN:DAYLIGHT
TZOFFSETFROM:-0500
TZOFFSETTO:-0400
TZNAME:EDT
DTSTART:20270314T070000
END:DAYLIGHT
BEGIN:STANDARD
TZOFFSETFROM:-0400
TZOFFSETTO:-0500
TZNAME:EST
DTSTART:20271107T060000
END:STANDARD
END:VTIMEZONE
BEGIN:VEVENT
DTSTART;TZID=America/New_York:20260219T170000
DTEND;TZID=America/New_York:20260219T200000
DTSTAMP:20260422T051111
CREATED:20260201T224052Z
LAST-MODIFIED:20260217T202405Z
UID:28171-1771520400-1771531200@gallifords.com
SUMMARY:Mardi Gras Family Night
DESCRIPTION:Bring your family in their best Mardi Gras outfits to celebrate a night of festive music\, entertainment\, prizes\, and more as Mardi Gras Weekend Specials return to Galliford’s Restaurant & Tavern! \nFrom February 19 – 22\, 2026\, join us for at Galliford’s for: \n\nFlavors inspired by the Big Easy\nTraditional New Orleans dishes\nFestive craft cocktails\nand an abundance of celebratory activities!\n\nMardi Gras Family Night features include: \n\nLive music presented by the Nipmuc High School Jazz Band\nAppearances by LJ\, Southwick’s Zoo mascot\, dressed for the occasion\nA “Dress Your Best” celebration with prizes for the most festive\, funniest\, and more\nA welcoming\, high-energy atmosphere designed for families\n\nFamily Special \n\nEach Children’s Meal includes a FREE kids admission to Southwick’s Zoo (with purchase of an adult zoo ticket).\n\nMardi Gras Weekend Specials Include: \nStarters: \n\nCreole Shrimp & Corn Bisque\nLouisiana Crab Cakes\n\nEntreés: \n\nShrimp Po’boy\nRed Beans n’ Rice\nAlligator Etouffee\nBourbon Street Sirloin\nMuffuletta Pizza\n\nDesserts \n\nBeignets\nBanana Foster Cheesecake\n\nThe celebration will transport you straight to Bourbon Street with the party continuing all weekend long! Whether you’re craving bold Cajun flavors\, or just looking for a reason to celebrate\, Galliford’s is the place to be for Mardi Gras fun! \nDon’t forget\, on Sunday\, February 22 from 9:30 AM – 2:00 PM\, kick off your Sunday with a special Mardi Gras Brunch featuring a wide selection of savory breakfast dishes\, creative twists on classic brunch favorites\, festive flavors inspired by New Orleans cuisine\, and other festivities. You won’t want to miss it! \nReservations are heavily encouraged\, please call (508) 928-0928 to save your spot.
URL:https://gallifords.com/event/mardi-gras-family-night/
LOCATION:Galliford’s Restaurant and Tavern\, 5 Southwick St\, Mendon\, MA\, 01756\, United States
CATEGORIES:Family Nights,Mardi Gras Weekend,Weekend Specials
ATTACH;FMTTYPE=image/png:https://gallifords.com/wp-content/uploads/2026/02/Mardi-Gras-Family-Night-Event-Graphic-1.png
ORGANIZER;CN="Galliford's Restaurant and Tavern":MAILTO:info@gallifords.com
END:VEVENT
BEGIN:VEVENT
DTSTART;TZID=America/New_York:20260220T110000
DTEND;TZID=America/New_York:20260220T210000
DTSTAMP:20260422T051111
CREATED:20260126T160933Z
LAST-MODIFIED:20260216T140513Z
UID:28108-1771585200-1771621200@gallifords.com
SUMMARY:Mardi Gras Weekend Specials
DESCRIPTION:Close out the carnival season with a feast through Galliford’s Mardi Gras Weekend specials! \nFrom February 19 – 22\, 2026\, join us for at Galliford’s for: \n\nFlavors inspired by the Big Easy\nTraditional New Orleans dishes\nFestive craft cocktails\nand an abundance of celebratory activities!\n\nThe celebration will transport you straight to Bourbon Street with the party continuing all weekend long! Whether you’re craving bold Cajun flavors\, or just looking for a reason to celebrate\, Galliford’s is the place to be for Mardi Gras fun! \nMardi Gras Weekend Specials Include: \nStarters: \n\nCreole Shrimp & Corn Bisque\nLouisiana Crab Cakes\n\nEntrées: \n\nShrimp Po’boy\nRed Beans n’ Rice\nAlligator Etouffee\nBourbon Street Sirloin\nMuffuletta Pizza\n\nDesserts \n\nBeignets\nBanana Foster Cheesecake\n\nDon’t forget\, on Sunday\, February 22 from 9:30 AM – 2:00 PM\, kick off your Sunday with a special Mardi Gras Brunch featuring a wide selection of savory breakfast dishes\, creative twists on classic brunch favorites\, festive flavors inspired by New Orleans cuisine\, live music\, and other festivities. You won’t want to miss it! \nReservations are heavily encouraged\, please call (508) 928-0928 to save your spot
URL:https://gallifords.com/event/mardi-gras-weekend-specials-february-20-2026/
LOCATION:Galliford’s Restaurant and Tavern\, 5 Southwick St\, Mendon\, MA\, 01756\, United States
CATEGORIES:Mardi Gras Weekend,Weekend Specials
ATTACH;FMTTYPE=image/png:https://gallifords.com/wp-content/uploads/2026/01/Mardi-Gras-Weekend-Specials-Event-Graphic.png
ORGANIZER;CN="Galliford's Restaurant and Tavern":MAILTO:info@gallifords.com
END:VEVENT
BEGIN:VEVENT
DTSTART;TZID=America/New_York:20260221T110000
DTEND;TZID=America/New_York:20260221T210000
DTSTAMP:20260422T051111
CREATED:20260126T161112Z
LAST-MODIFIED:20260216T140552Z
UID:28112-1771671600-1771707600@gallifords.com
SUMMARY:Mardi Gras Weekend Specials
DESCRIPTION:Close out the carnival season with a feast through Galliford’s Mardi Gras Weekend specials! \nFrom February 19 – 22\, 2026\, join us for at Galliford’s for: \n\nFlavors inspired by the Big Easy\nTraditional New Orleans dishes\nFestive craft cocktails\nand an abundance of celebratory activities!\n\nThe celebration will transport you straight to Bourbon Street with the party continuing all weekend long! Whether you’re craving bold Cajun flavors\, or just looking for a reason to celebrate\, Galliford’s is the place to be for Mardi Gras fun! \nMardi Gras Weekend Specials Include: \nStarters: \n\nCreole Shrimp & Corn Bisque\nLouisiana Crab Cakes\n\nEntreés: \n\nShrimp Po’boy\nRed Beans n’ Rice\nAlligator Etouffee\nBourbon Street Sirloin\nMuffuletta Pizza\n\nDesserts \n\nBeignets\nBanana Foster Cheesecake\n\nDon’t forget\, on Sunday\, February 22 from 9:30 AM – 2:00 PM\, kick off your Sunday with a special Mardi Gras Brunch featuring a wide selection of savory breakfast dishes\, creative twists on classic brunch favorites\, festive flavors inspired by New Orleans cuisine\, live music\, and other festivities. You won’t want to miss it! \nReservations are heavily encouraged\, please call (508) 928-0928 to save your spot.
URL:https://gallifords.com/event/mardi-gras-weekend-specials-february-21-2026/
LOCATION:Galliford’s Restaurant and Tavern\, 5 Southwick St\, Mendon\, MA\, 01756\, United States
CATEGORIES:Mardi Gras Weekend,Weekend Specials
ATTACH;FMTTYPE=image/png:https://gallifords.com/wp-content/uploads/2026/01/Mardi-Gras-Weekend-Specials-Event-Graphic.png
ORGANIZER;CN="Galliford's Restaurant and Tavern":MAILTO:info@gallifords.com
END:VEVENT
BEGIN:VEVENT
DTSTART;TZID=America/New_York:20260222T110000
DTEND;TZID=America/New_York:20260222T200000
DTSTAMP:20260422T051111
CREATED:20260126T161319Z
LAST-MODIFIED:20260216T140615Z
UID:28114-1771758000-1771790400@gallifords.com
SUMMARY:Mardi Gras Weekend Specials
DESCRIPTION:Close out the carnival season with a feast through Galliford’s Mardi Gras Weekend specials! \nFrom February 19 – 22\, 2026\, join us for at Galliford’s for: \n\nFlavors inspired by the Big Easy\nTraditional New Orleans dishes\nFestive craft cocktails\nand an abundance of celebratory activities!\n\nThe celebration will transport you straight to Bourbon Street with the party continuing all weekend long! Whether you’re craving bold Cajun flavors\, or just looking for a reason to celebrate\, Galliford’s is the place to be for Mardi Gras fun! \nMardi Gras Weekend Specials Include: \nStarters: \n\nCreole Shrimp & Corn Bisque\nLouisiana Crab Cakes\n\nEntreés: \n\nShrimp Po’boy\nRed Beans n’ Rice\nAlligator Etouffee\nBourbon Street Sirloin\nMuffuletta Pizza\n\nDesserts \n\nBeignets\nBanana Foster Cheesecake\n\nDon’t forget\, on Sunday\, February 22 from 9:30 AM – 2:00 PM\, kick off your Sunday with a special Mardi Gras Brunch featuring a wide selection of savory breakfast dishes\, creative twists on classic brunch favorites\, festive flavors inspired by New Orleans cuisine\, live music\, and other festivities. You won’t want to miss it! \nReservations are heavily encouraged\, please call (508) 928-0928 to save your spot.
URL:https://gallifords.com/event/mardi-gras-weekend-specials-february-22-2026/
LOCATION:Galliford’s Restaurant and Tavern\, 5 Southwick St\, Mendon\, MA\, 01756\, United States
CATEGORIES:Mardi Gras Weekend,Weekend Specials
ATTACH;FMTTYPE=image/png:https://gallifords.com/wp-content/uploads/2026/01/Mardi-Gras-Weekend-Specials-Event-Graphic.png
ORGANIZER;CN="Galliford's Restaurant and Tavern":MAILTO:info@gallifords.com
END:VEVENT
END:VCALENDAR