BEGIN:VCALENDAR
VERSION:2.0
PRODID:-//Galliford&#039;s Restaurant &amp; Tavern - ECPv6.15.20//NONSGML v1.0//EN
CALSCALE:GREGORIAN
METHOD:PUBLISH
X-WR-CALNAME:Galliford&#039;s Restaurant &amp; Tavern
X-ORIGINAL-URL:https://gallifords.com
X-WR-CALDESC:Events for Galliford&#039;s Restaurant &amp; Tavern
REFRESH-INTERVAL;VALUE=DURATION:PT1H
X-Robots-Tag:noindex
X-PUBLISHED-TTL:PT1H
BEGIN:VTIMEZONE
TZID:America/New_York
BEGIN:DAYLIGHT
TZOFFSETFROM:-0500
TZOFFSETTO:-0400
TZNAME:EDT
DTSTART:20250309T070000
END:DAYLIGHT
BEGIN:STANDARD
TZOFFSETFROM:-0400
TZOFFSETTO:-0500
TZNAME:EST
DTSTART:20251102T060000
END:STANDARD
BEGIN:DAYLIGHT
TZOFFSETFROM:-0500
TZOFFSETTO:-0400
TZNAME:EDT
DTSTART:20260308T070000
END:DAYLIGHT
BEGIN:STANDARD
TZOFFSETFROM:-0400
TZOFFSETTO:-0500
TZNAME:EST
DTSTART:20261101T060000
END:STANDARD
BEGIN:DAYLIGHT
TZOFFSETFROM:-0500
TZOFFSETTO:-0400
TZNAME:EDT
DTSTART:20270314T070000
END:DAYLIGHT
BEGIN:STANDARD
TZOFFSETFROM:-0400
TZOFFSETTO:-0500
TZNAME:EST
DTSTART:20271107T060000
END:STANDARD
END:VTIMEZONE
BEGIN:VEVENT
DTSTART;TZID=America/New_York:20260213T180000
DTEND;TZID=America/New_York:20260213T210000
DTSTAMP:20260422T071758
CREATED:20251211T215910Z
LAST-MODIFIED:20251211T235044Z
UID:466-1771005600-1771016400@gallifords.com
SUMMARY:Live Music: Big Jon Short
DESCRIPTION:Enjoy an evening of live music with Big Jon Short from 6–9 pm. \nHis performance will create the perfect backdrop for great food\, good company\, and a memorable night out. \nReserve your table by calling 508-928-0928.
URL:https://gallifords.com/event/live-music-big-jon-short/
LOCATION:Galliford’s Restaurant and Tavern\, 5 Southwick St\, Mendon\, MA\, 01756\, United States
CATEGORIES:Live Music
ATTACH;FMTTYPE=image/png:https://gallifords.com/wp-content/uploads/2025/12/Live-Music_-Big-Jon-Short.png
ORGANIZER;CN="Galliford's Restaurant and Tavern":MAILTO:info@gallifords.com
END:VEVENT
BEGIN:VEVENT
DTSTART;TZID=America/New_York:20260213T110000
DTEND;TZID=America/New_York:20260213T210000
DTSTAMP:20260422T071758
CREATED:20251218T180721Z
LAST-MODIFIED:20260209T191443Z
UID:587-1770980400-1771016400@gallifords.com
SUMMARY:Valentine's Day Weekend Specials
DESCRIPTION:This Valentine’s Day weekend\, Galliford’s Restaurant & Tavern invites you to celebrate connection\, conversation\, and exceptional dining with a thoughtfully curated experience designed for the occasion. \nFrom Thursday\, February 12 through Sunday\, February 15\, Galliford’s transforms Valentine’s Day into a full weekend celebration; giving you more time\, more flexibility\, and more reason to savor the moment with the people you love. \nA Chef-Curated Valentine’s Menu \nOur culinary team has created a limited-time Valentine’s menu available all weekend\, showcasing seasonal flavors\, indulgent plates\, and dishes meant to be enjoyed from start to finish. \nTo ensure the highest quality experience\, this special Valentine’s menu will be the only menu available during Valentine’s weekend.  \nSignature Valentine’s Cocktails & Wine Pairings \nNo celebration is complete without something special to sip. For Valentine’s weekend\, our bar team has crafted seasonal cocktails and wine selections inspired by the spirit of the holiday. \nExpect playful\, shareable cocktail offerings\, as well as hand-selected wines that perfectly complement the Valentine’s menu.  \nDesserts Designed for Sharing \nSave room for something sweet. Valentine’s weekend at Galliford’s features indulgent desserts designed to be shared\, including curated dessert selections perfect for passing around the table. \nFrom small bites to multi-dessert assortments\, these treats are meant to be enjoyed together. \nReservations are strongly recommended\, as availability is limited and this event is expected to fill quickly. Call 508-928-0928 to reserve your table
URL:https://gallifords.com/event/valentines-day-weekend-specials-february-13-2026/
LOCATION:Galliford’s Restaurant and Tavern\, 5 Southwick St\, Mendon\, MA\, 01756\, United States
CATEGORIES:Valentine's Day Weekend
ATTACH;FMTTYPE=image/png:https://gallifords.com/wp-content/uploads/2026/02/Valentines-Day-Square-540x540-1.png
ORGANIZER;CN="Galliford's Restaurant and Tavern":MAILTO:info@gallifords.com
END:VEVENT
BEGIN:VEVENT
DTSTART;TZID=America/New_York:20260212T160000
DTEND;TZID=America/New_York:20260215T200000
DTSTAMP:20260422T071758
CREATED:20260210T164047Z
LAST-MODIFIED:20260210T164047Z
UID:28208-1770912000-1771185600@gallifords.com
SUMMARY:Valentine's Day Bouquets
DESCRIPTION:Add a thoughtful finishing touch to your Valentine’s Day Weekend with hand-crafted mixed flower bouquets by Petal and Crumb\, available for purchase at Galliford’s Restaurant & Tavern. \nFrom Thursday\, February 12 through Sunday\, February 15\, guests may purchase $35 one-of-a-kind bouquets\, each uniquely designed and pre-wrapped\, perfect for gifting or taking home after your meal. Quantities are limited and available while supplies last. \nBouquets are offered on a first come\, first serve basis. \nGalliford’s is proud to partner with Petal and Crumb to bring this special Valentine’s Day offering to our guests.
URL:https://gallifords.com/event/valentines-day-bouquets/
LOCATION:Galliford’s Restaurant and Tavern\, 5 Southwick St\, Mendon\, MA\, 01756\, United States
CATEGORIES:Valentine's Day Weekend
ATTACH;FMTTYPE=image/png:https://gallifords.com/wp-content/uploads/2026/02/Valentines-Bouquets-Special-Sqaure.png
ORGANIZER;CN="Galliford's Restaurant and Tavern":MAILTO:info@gallifords.com
END:VEVENT
BEGIN:VEVENT
DTSTART;TZID=America/New_York:20260212T160000
DTEND;TZID=America/New_York:20260212T210000
DTSTAMP:20260422T071758
CREATED:20260209T191420Z
LAST-MODIFIED:20260209T191420Z
UID:28202-1770912000-1770930000@gallifords.com
SUMMARY:Valentine's Day Weekend Specials
DESCRIPTION:This Valentine’s Day weekend\, Galliford’s Restaurant & Tavern invites you to celebrate connection\, conversation\, and exceptional dining with a thoughtfully curated experience designed for the occasion. \nFrom Thursday\, February 12 through Sunday\, February 15\, Galliford’s transforms Valentine’s Day into a full weekend celebration; giving you more time\, more flexibility\, and more reason to savor the moment with the people you love. \nA Chef-Curated Valentine’s Menu \nOur culinary team has created a limited-time Valentine’s menu available all weekend\, showcasing seasonal flavors\, indulgent plates\, and dishes meant to be enjoyed from start to finish. \nTo ensure the highest quality experience\, this special Valentine’s menu will be the only menu available during Valentine’s weekend.  \nSignature Valentine’s Cocktails & Wine Pairings \nNo celebration is complete without something special to sip. For Valentine’s weekend\, our bar team has crafted seasonal cocktails and wine selections inspired by the spirit of the holiday. \nExpect playful\, shareable cocktail offerings\, as well as hand-selected wines that perfectly complement the Valentine’s menu.  \nDesserts Designed for Sharing \nSave room for something sweet. Valentine’s weekend at Galliford’s features indulgent desserts designed to be shared\, including curated dessert selections perfect for passing around the table. \nFrom small bites to multi-dessert assortments\, these treats are meant to be enjoyed together. \nReservations are strongly recommended\, as availability is limited and this event is expected to fill quickly. Call 508-928-0928 to reserve your table
URL:https://gallifords.com/event/valentines-day-weekend-specials-february-12/
LOCATION:Galliford’s Restaurant and Tavern\, 5 Southwick St\, Mendon\, MA\, 01756\, United States
CATEGORIES:Valentine's Day Weekend
ATTACH;FMTTYPE=image/png:https://gallifords.com/wp-content/uploads/2026/02/Valentines-Day-Square-540x540-1.png
ORGANIZER;CN="Galliford's Restaurant and Tavern":MAILTO:info@gallifords.com
END:VEVENT
BEGIN:VEVENT
DTSTART;TZID=America/New_York:20260208T093000
DTEND;TZID=America/New_York:20260208T140000
DTSTAMP:20260422T071758
CREATED:20251229T173325Z
LAST-MODIFIED:20260203T235349Z
UID:826-1770543000-1770559200@gallifords.com
SUMMARY:Super Bowl Sunday Brunch Buffet
DESCRIPTION:Kick off Super Bowl Sunday with a brunch buffet built for game day. Galliford’s Super Bowl Sunday Brunch Buffet brings together the indulgence of our signature Sunday Brunch with hearty\, crowd-pleasing favorites; the perfect way to gather\, fuel up\, and enjoy the excitement before the big game. Guests are encouraged to show their team spirit by coming dressed in Patriots gear\, school football or cheer jerseys\, or your favorite game-day attire. \nGuests can expect the same thoughtfully curated brunch experience Galliford’s is known for\, featuring classic breakfast staples\, elevated brunch favorites\, and savory offerings designed to satisfy every appetite in a relaxed\, welcoming setting. \nBrunch highlights include: \n\nMade-to-order Omelet Station\nClassic Carving Station\nFresh Waffle Station\nSignature Millionaire Cinnamon Rolls\nTraditional Lox\nCrème Brûlée French Toast\nEggs Benedict\nA rotating selection of additional brunch favorites and lunch-inspired favorites\n\nWhether you’re gathering with friends\, bringing the family\, or starting Super Bowl Sunday with a satisfying meal\, this special brunch offers something for everyone. \nBrunch Pricing \n\nAdults: $32.95\nSeniors: $24.95\nChildren (Under 12): $15.95\n\nClick here to read more about Galliford’s weekly Sunday Brunch Buffets. \nReservations are strongly encouraged. \nTo reserve your table\, please call (508) 928-0928.
URL:https://gallifords.com/event/super-bowl-sunday-brunch-buffet/
LOCATION:Galliford’s Restaurant and Tavern\, 5 Southwick St\, Mendon\, MA\, 01756\, United States
CATEGORIES:Sunday Brunch Buffet
ATTACH;FMTTYPE=image/png:https://gallifords.com/wp-content/uploads/2025/12/Super-Bowl-Brunch-1080x1080-1.png
ORGANIZER;CN="Galliford's Restaurant and Tavern":MAILTO:info@gallifords.com
END:VEVENT
BEGIN:VEVENT
DTSTART;TZID=America/New_York:20260206T180000
DTEND;TZID=America/New_York:20260206T210000
DTSTAMP:20260422T071758
CREATED:20251211T220343Z
LAST-MODIFIED:20260116T190951Z
UID:472-1770400800-1770411600@gallifords.com
SUMMARY:Live Music: Kevin Williams
DESCRIPTION:Join us for an evening with Kevin Williams\, performing live from 6–9 pm. \nEnjoy a great meal\, sip something you love\, and settle into a welcoming atmosphere that makes nights feel a little more special. \nReserve your table at 508-928-0928.
URL:https://gallifords.com/event/live-music-kevin-williams/
LOCATION:Galliford’s Restaurant and Tavern\, 5 Southwick St\, Mendon\, MA\, 01756\, United States
CATEGORIES:Live Music
ATTACH;FMTTYPE=image/png:https://gallifords.com/wp-content/uploads/2025/12/Live-Music_-Kevin-Williams.png
ORGANIZER;CN="Galliford's Restaurant and Tavern":MAILTO:info@gallifords.com
END:VEVENT
BEGIN:VEVENT
DTSTART;TZID=America/New_York:20260201T093000
DTEND;TZID=America/New_York:20260201T140000
DTSTAMP:20260422T071758
CREATED:20251217T175312Z
LAST-MODIFIED:20260129T153015Z
UID:551-1769938200-1769954400@gallifords.com
SUMMARY:Cold Brew Flight Sunday Brunch Buffet
DESCRIPTION:Enjoy Galliford’s signature Sunday Brunch Buffet with a caffeinated twist during our Cold Brew Flight Sunday Brunch. This special edition brunch pairs the expansive buffet you know and love with an optional cold brew flight\, perfect for coffee lovers looking to elevate their Sunday. \nGalliford’s Sunday Brunch Buffet offers a relaxed\, indulgent way to enjoy your weekend\, featuring a wide selection of savory breakfast dishes and creative takes on classic brunch favorites. Comforting staples meet elevated offerings in a welcoming\, leisurely setting now complemented by a curated cold brew experience. \nBrunch highlights include: \n\nMade-to-order Omelet Station\nClassic Carving Station\nFresh Waffle Station\nSignature Millionaire Cinnamon Rolls\nTraditional Lox\nCrème Brûlée French Toast\nEggs Benedict\nAnd a rotating selection of additional brunch favorites\n\nCold Brew Feature:\nGuests may order a four-pour cold brew flight\, available spiked or non-spiked\, as an add-on to brunch. Each flight highlights a variety of flavors designed to complement both sweet and savory brunch selections. \nBrunch Price \n\nAdults: $32.95\nChildren (Under 12): $15.95\nSeniors: $24.95\n\nCold brew flights available for purchase separately. \nClick here to read more about Galliford’s weekly Sunday Brunch Buffets. \nReservations are heavily encouraged. Please call (508) 928-0928 to reserve your table.
URL:https://gallifords.com/event/cold-brew-flight-sunday-brunch-buffet-1/
LOCATION:Galliford’s Restaurant and Tavern\, 5 Southwick St\, Mendon\, MA\, 01756\, United States
CATEGORIES:Sunday Brunch Buffet
ATTACH;FMTTYPE=image/png:https://gallifords.com/wp-content/uploads/2025/12/Cold-Brew-Brunch-Feb-1-1080x1080-1.png
ORGANIZER;CN="Galliford's Restaurant and Tavern":MAILTO:info@gallifords.com
END:VEVENT
BEGIN:VEVENT
DTSTART;TZID=America/New_York:20260130T180000
DTEND;TZID=America/New_York:20260130T210000
DTSTAMP:20260422T071758
CREATED:20251211T215723Z
LAST-MODIFIED:20251211T235100Z
UID:463-1769796000-1769806800@gallifords.com
SUMMARY:Live Music: Mike Peloquin
DESCRIPTION:Experienced Solo Acoustic Performer with a huge range of covers. Anything from classic soft rock to upbeat Pop music from today. \nReservations are strongly recommended. (508) 928-0928 \nMike Peloquin on Facebook
URL:https://gallifords.com/event/live-music-mike-peloquin/
LOCATION:Galliford’s Restaurant and Tavern\, 5 Southwick St\, Mendon\, MA\, 01756\, United States
CATEGORIES:Live Music
ATTACH;FMTTYPE=image/png:https://gallifords.com/wp-content/uploads/2025/12/Live-Music_-Mike-Peloquin.png
ORGANIZER;CN="Galliford's Restaurant and Tavern":MAILTO:info@gallifords.com
END:VEVENT
BEGIN:VEVENT
DTSTART;TZID=America/New_York:20260123T180000
DTEND;TZID=America/New_York:20260123T210000
DTSTAMP:20260422T071758
CREATED:20251211T215518Z
LAST-MODIFIED:20251211T235123Z
UID:459-1769191200-1769202000@gallifords.com
SUMMARY:Live Music: David Penza
DESCRIPTION:Acoustic Solo Artist. Performs the music of your favorite Singer-Songwriter artists. \nReservations strongly encouraged (508) 928-0928 \nDavid Penza Music on Facebook
URL:https://gallifords.com/event/live-music-david-penza/
LOCATION:Galliford’s Restaurant and Tavern\, 5 Southwick St\, Mendon\, MA\, 01756\, United States
CATEGORIES:Live Music
ATTACH;FMTTYPE=image/png:https://gallifords.com/wp-content/uploads/2025/12/Live-Music_-David-Penza.png
ORGANIZER;CN="Galliford's Restaurant and Tavern":MAILTO:info@gallifords.com
END:VEVENT
BEGIN:VEVENT
DTSTART;TZID=America/New_York:20260116T180000
DTEND;TZID=America/New_York:20260116T210000
DTSTAMP:20260422T071758
CREATED:20251211T215009Z
LAST-MODIFIED:20251211T235259Z
UID:455-1768586400-1768597200@gallifords.com
SUMMARY:Live Music: Jon-Paul Royer
DESCRIPTION:Jon-Paul is a solo acoustic guitar player and seasoned singer and songwriter from New England; known for his velvety lead vocals. \nReservations strongly encouraged (508) 928-0928 \nJon-Paul Royer Music on Facebook
URL:https://gallifords.com/event/live-music-jon-paul-royer/
LOCATION:Galliford’s Restaurant and Tavern\, 5 Southwick St\, Mendon\, MA\, 01756\, United States
CATEGORIES:Live Music
ATTACH;FMTTYPE=image/png:https://gallifords.com/wp-content/uploads/2025/12/Live-Music-JP-Royer.png
ORGANIZER;CN="Galliford's Restaurant and Tavern":MAILTO:info@gallifords.com
END:VEVENT
BEGIN:VEVENT
DTSTART;TZID=America/New_York:20260109T180000
DTEND;TZID=America/New_York:20260109T210000
DTSTAMP:20260422T071758
CREATED:20250109T214630Z
LAST-MODIFIED:20251211T235321Z
UID:448-1767981600-1767992400@gallifords.com
SUMMARY:Live Music: Adam Go Music
DESCRIPTION:Adam Go Music makes his debut in the Tavern! \nSpend the night with Adam Go Music as he performs live from 6–9 pm. Pair his performance with a delicious meal\, seasonal cocktails\, and the warm atmosphere Galliford’s is known for. \nMake your reservation at 508-928-0928.
URL:https://gallifords.com/event/live-music-adam-go-music/
LOCATION:Galliford’s Restaurant and Tavern\, 5 Southwick St\, Mendon\, MA\, 01756\, United States
CATEGORIES:Live Music
ATTACH;FMTTYPE=image/png:https://gallifords.com/wp-content/uploads/2025/12/Live-Music_-Adam-Go-Music-1.png
ORGANIZER;CN="Galliford's Restaurant and Tavern":MAILTO:info@gallifords.com
END:VEVENT
END:VCALENDAR